BEGIN:VCALENDAR
VERSION:2.0
PRODID:Yachts and Yachting Online
CALSCALE:GREGORIAN
BEGIN:VEVENT
DTSTART:20260702T090000Z
DTEND:20260711T170000Z
SUMMARY:2026 505 World Championships
LOCATION:Hayling Island Sailing Club
DESCRIPTION:
PRIORITY:3
END:VEVENT
END:VCALENDAR
