BEGIN:VCALENDAR
VERSION:2.0
PRODID:Yachts and Yachting Online
CALSCALE:GREGORIAN
BEGIN:VEVENT
DTSTART:20260610T090000Z
DTEND:20260613T170000Z
SUMMARY:Elite One Design National Championships
LOCATION:Hayling Island Sailing Club
DESCRIPTION:
PRIORITY:3
END:VEVENT
END:VCALENDAR
