BEGIN:VCALENDAR
VERSION:2.0
PRODID:Yachts and Yachting Online
CALSCALE:GREGORIAN
BEGIN:VEVENT
DTSTART:20260531T090000Z
DTEND:20260531T170000Z
SUMMARY:Open Meeting
LOCATION:Chipstead Sailing Club
DESCRIPTION:Briefing at 10.15 am   First race 10.45 am
Entry fee - £15.00  18 and under - £10.00
All Rigs, ILCA 7, ILCA 6, ILCA 4 welcome
4 races, 3 to count
PRIORITY:3
END:VEVENT
END:VCALENDAR
